BEGIN:VCALENDAR
VERSION:2.0
PRODID:-//SCLS//NONSGML v1.0//EN
METHOD:PUBLISH
BEGIN:VEVENT
DTSTART;TZID=America/New_York:20260423T103000
DTEND;TZID=America/New_York:20260423T113000
DTSTAMP:20260423T062049
CREATED:20260423T062049-14400
SUMMARY:Wine Glass Charms
DESCRIPTION:Learn how to make personalized wine glass charms.  All materials will be provided.
URL:scls.digitalbranch.org/api/event_export_ics_controlle
LOCATION:Montgomery branch
UID:28986
END:VEVENT
END:VCALENDAR
