BEGIN:VCALENDAR
VERSION:2.0
PRODID:-//SCLS//NONSGML v1.0//EN
METHOD:PUBLISH
BEGIN:VEVENT
DTSTART;TZID=America/New_York:20260422T110000
DTEND;TZID=America/New_York:20260422T120000
DTSTAMP:20260421T052656
CREATED:20260421T052656-14400
SUMMARY:English Conversation Group 
DESCRIPTION:Practice speaking English in a friendly setting. Intermediate English skills are required. Hosted by SCLSNJ staff in partnership with the Literacy Volunteers of Somerset County. 
URL:scls.digitalbranch.org/api/event_export_ics_controlle
LOCATION:Montgomery branch
UID:28984
END:VEVENT
END:VCALENDAR
