BEGIN:VCALENDAR
VERSION:2.0
PRODID:-//SCLS//NONSGML v1.0//EN
METHOD:PUBLISH
BEGIN:VEVENT
DTSTART;TZID=America/New_York:20260430T140000
DTEND;TZID=America/New_York:20260430T150000
DTSTAMP:20260423T050928
CREATED:20260423T050928-14400
SUMMARY:Drop-In Tech Help
DESCRIPTION:Connect with one of our library staff members to get answers to your questions about technology. 
URL:scls.digitalbranch.org/api/event_export_ics_controlle
LOCATION:Montgomery branch
UID:28844
END:VEVENT
END:VCALENDAR
