BEGIN:VCALENDAR
VERSION:2.0
PRODID:-//SCLS//NONSGML v1.0//EN
METHOD:PUBLISH
BEGIN:VEVENT
DTSTART;TZID=America/New_York:20260421T180000
DTEND;TZID=America/New_York:20260421T190000
DTSTAMP:20260421T131933
CREATED:20260421T131933-14400
SUMMARY:Birdy Jerz: Birding in the Garden State
DESCRIPTION:Learn from an experienced naturalist about great spots across New Jersey for birding\, including what you can expect to find\, and what makes a location a great area for bird activity. 
URL:scls.digitalbranch.org/api/event_export_ics_controlle
LOCATION:Manville branch
UID:28387
END:VEVENT
END:VCALENDAR
