BEGIN:VCALENDAR
VERSION:2.0
PRODID:-//SCLS//NONSGML v1.0//EN
METHOD:PUBLISH
BEGIN:VEVENT
DTSTART;TZID=America/New_York:20260424T171500
DTEND;TZID=America/New_York:20260424T173000
DTSTAMP:20260423T141948
CREATED:20260423T141948-14400
SUMMARY:Rolling Weather Lab 
DESCRIPTION:Explore a mobile\, hands-on science lab complete with interactive weather mapping\, real-time data collection\, and simulations of extreme weather events. 
URL:scls.digitalbranch.org/api/event_export_ics_controlle
LOCATION:Watchung branch
UID:28091
END:VEVENT
END:VCALENDAR
