BEGIN:VCALENDAR
VERSION:2.0
PRODID:-//SCLS//NONSGML v1.0//EN
METHOD:PUBLISH
BEGIN:VEVENT
DTSTART;TZID=America/New_York:20260423T161500
DTEND;TZID=America/New_York:20260423T171500
DTSTAMP:20260423T074952
CREATED:20260423T074952-14400
SUMMARY:Read to a Therapy Dog
DESCRIPTION:Practice your reading skills by reading a story to a certified therapy dog. Registration is required by visiting the Youth Services desk or calling 908-458-8415. Registration begins April 2.
URL:scls.digitalbranch.org/api/event_export_ics_controlle
LOCATION:Bridgewater branch
UID:27869
END:VEVENT
END:VCALENDAR
