BEGIN:VCALENDAR
VERSION:2.0
PRODID:-//SCLS//NONSGML v1.0//EN
METHOD:PUBLISH
BEGIN:VEVENT
DTSTART;TZID=America/New_York:20260421T100000
DTEND;TZID=America/New_York:20260421T130000
DTSTAMP:20260421T115126
CREATED:20260421T115126-14400
SUMMARY:EMERGENCY PREPAREDNESS PLACEHOLDER
DESCRIPTION:description
URL:scls.digitalbranch.org/api/event_export_ics_controlle
LOCATION:Manville branch
UID:27084
END:VEVENT
END:VCALENDAR
