BEGIN:VCALENDAR
VERSION:2.0
PRODID:-//SCLS//NONSGML v1.0//EN
METHOD:PUBLISH
BEGIN:VEVENT
DTSTART;TZID=America/New_York:20260421T110000
DTEND;TZID=America/New_York:20260421T120000
DTSTAMP:20260421T114906
CREATED:20260421T114906-14400
SUMMARY:Disabilities Social Hour
DESCRIPTION:Designed for adults with cognitive or developmental disabilities (18 and up) to meet new people\, as well as explore fun and interesting activities. Caregivers and support staff are welcome.
URL:scls.digitalbranch.org/api/event_export_ics_controlle
LOCATION:Bridgewater branch
UID:25661
END:VEVENT
END:VCALENDAR
